BEGIN:VCALENDAR
VERSION:2.0
PRODID:-//Plone.org//NONSGML plone.app.event//EN
X-WR-TIMEZONE:US/Central
BEGIN:VEVENT
SUMMARY:Summer Reading 2012
DTSTART;TZID=US/Central:20120627T103000
DTEND;TZID=US/Central:20120627T113000
DTSTAMP:20260420T041417Z
UID:0f441f47acf0c6bea6d918bae7719e5a@saas_stack_varnish:6080
CONTACT:Toni Flynn\, 903-769-2241
CREATED:20120603T152923Z
DESCRIPTION:Our excellent children's summer program!
LAST-MODIFIED:20120627T021655Z
LOCATION:Children's Room at the Library
URL:https://www.hawkinslibrary.org/news-events/lib-cal/summer-reading-2012
 .ics
END:VEVENT
BEGIN:VTIMEZONE
TZID:US/Central
X-LIC-LOCATION:US/Central
BEGIN:DAYLIGHT
DTSTART:20120311T030000
TZNAME:CDT
TZOFFSETFROM:-0600
TZOFFSETTO:-0500
END:DAYLIGHT
END:VTIMEZONE
END:VCALENDAR
