BEGIN:VCALENDAR
VERSION:2.0
PRODID:-//Plone.org//NONSGML plone.app.event//EN
X-WR-TIMEZONE:US/Central
BEGIN:VEVENT
SUMMARY:Summer Reading
DTSTART;TZID=US/Central:20090708T103000
DTEND;TZID=US/Central:20090708T113000
DTSTAMP:20260424T163233Z
UID:d50905f59a97a5563fd034c59b4aa21c@saas_stack_varnish:6080
CONTACT:903-769-2241
CREATED:20080528T184027Z
LAST-MODIFIED:20090506T213313Z
LOCATION:Children's Room
URL:https://www.hawkinslibrary.org/news-events/lib-cal/event.2008-05-28.97
 09643470
END:VEVENT
BEGIN:VTIMEZONE
TZID:US/Central
X-LIC-LOCATION:US/Central
BEGIN:DAYLIGHT
DTSTART:20090308T030000
TZNAME:CDT
TZOFFSETFROM:-0600
TZOFFSETTO:-0500
END:DAYLIGHT
END:VTIMEZONE
END:VCALENDAR
