BEGIN:VCALENDAR
VERSION:2.0
PRODID:-//Plone.org//NONSGML plone.app.event//EN
X-WR-TIMEZONE:US/Central
BEGIN:VEVENT
SUMMARY:Summer Reading
DTSTART;TZID=US/Central:20090729T103000
DTEND;TZID=US/Central:20090729T113000
DTSTAMP:20260424T162149Z
UID:75f3733dcfaf7dc49352d2cd79797f44@saas_stack_varnish:6080
CONTACT:903-769-2241
CREATED:20080528T184716Z
LAST-MODIFIED:20090506T213545Z
LOCATION:Children's Room
URL:https://www.hawkinslibrary.org/news-events/lib-cal/event.2008-05-28.39
 09850782
END:VEVENT
BEGIN:VTIMEZONE
TZID:US/Central
X-LIC-LOCATION:US/Central
BEGIN:DAYLIGHT
DTSTART:20090308T030000
TZNAME:CDT
TZOFFSETFROM:-0600
TZOFFSETTO:-0500
END:DAYLIGHT
END:VTIMEZONE
END:VCALENDAR
